BEGIN:VCALENDAR
VERSION:2.0
PRODID:-//www.bibliothek.moehlin.ch//NONSGML kigkonsult.se iCalcreator 2.22
 //
CALSCALE:GREGORIAN
METHOD:PUBLISH
X-WR-TIMEZONE:Europe/Berlin
BEGIN:VEVENT
UID:20260421T102656CEST-1853GRxBf5@www.bibliothek.moehlin.ch
DTSTAMP:20260421T082656Z
DESCRIPTION:Klicken Sie auf den folgenden Link\, um weitere Informationen z
 ur Veranstaltung zu erhalten:\nhttp://www.bibliothek.moehlin.ch/de/veranst
 altungen/detail/detail.php?i=3152
DTSTART:20260520T140000
DTEND:20260520T170000
LOCATION:SteinliAula
SUMMARY:Referat 'Allein mit den Finanzen - Wie kann ich mich auf den Todesf
 all vorbereiten'
END:VEVENT
END:VCALENDAR
